BEGIN:VCALENDAR
VERSION:2.0
PRODID:-//Pennsylvania Outdoor Veterans - ECPv6.15.20//NONSGML v1.0//EN
CALSCALE:GREGORIAN
METHOD:PUBLISH
X-WR-CALNAME:Pennsylvania Outdoor Veterans
X-ORIGINAL-URL:https://paoutdoorveterans.org
X-WR-CALDESC:Events for Pennsylvania Outdoor Veterans
REFRESH-INTERVAL;VALUE=DURATION:PT1H
X-Robots-Tag:noindex
X-PUBLISHED-TTL:PT1H
BEGIN:VTIMEZONE
TZID:America/New_York
BEGIN:DAYLIGHT
TZOFFSETFROM:-0500
TZOFFSETTO:-0400
TZNAME:EDT
DTSTART:20250309T070000
END:DAYLIGHT
BEGIN:STANDARD
TZOFFSETFROM:-0400
TZOFFSETTO:-0500
TZNAME:EST
DTSTART:20251102T060000
END:STANDARD
BEGIN:DAYLIGHT
TZOFFSETFROM:-0500
TZOFFSETTO:-0400
TZNAME:EDT
DTSTART:20260308T070000
END:DAYLIGHT
BEGIN:STANDARD
TZOFFSETFROM:-0400
TZOFFSETTO:-0500
TZNAME:EST
DTSTART:20261101T060000
END:STANDARD
BEGIN:DAYLIGHT
TZOFFSETFROM:-0500
TZOFFSETTO:-0400
TZNAME:EDT
DTSTART:20270314T070000
END:DAYLIGHT
BEGIN:STANDARD
TZOFFSETFROM:-0400
TZOFFSETTO:-0500
TZNAME:EST
DTSTART:20271107T060000
END:STANDARD
END:VTIMEZONE
BEGIN:VEVENT
DTSTART;TZID=America/New_York:20260530T110000
DTEND;TZID=America/New_York:20260530T170000
DTSTAMP:20260417T003029
CREATED:20260308T221027Z
LAST-MODIFIED:20260308T221217Z
UID:520-1780138800-1780160400@paoutdoorveterans.org
SUMMARY:8TH Annual Wheels of Freedom Car Show
DESCRIPTION:Come and join us for a day of cars\, games\, food\, and fun for the whole family. \nCar show 11am to 5pm gates open at 10am for cars at 4117 park street whitehall \,pa 18052 entrance.  15 Trophies  $15.00 preregistered till May 28th $20.00 day of show. Spectators free \nPark activities/live music noon till 10pm
URL:https://paoutdoorveterans.org/event/8th-annual-wheels-of-freedom-car-show/
END:VEVENT
END:VCALENDAR